BEGIN:VCALENDAR
VERSION:2.0
PRODID:-//ChamberMaster//Event Calendar 2.0//EN
METHOD:PUBLISH
X-PUBLISHED-TTL:P3D
REFRESH-INTERVAL:P3D
CALSCALE:GREGORIAN
BEGIN:VEVENT
DTSTART:20260428T140000Z
DTEND:20260428T150000Z
X-MICROSOFT-CDO-ALLDAYEVENT:FALSE
SUMMARY:Coffee Connections hosted by: Amazon Hub
DESCRIPTION:Hosted by: Amazon Hub\n\n\n\nCoffee Connections is a relaxed\, relationship-focused networking opportunity designed to bring Chamber members together in a meaningful way. This isn't a traditional sales pitch. It's about members helping members by sharing ideas\, building connections\, and uncovering opportunities to support one another's businesses.\n\nEach Coffee Connection is hosted by a Chamber member who helps spark the conversation. Hosts have the opportunity to briefly share about their business\, offering insight into what they do\, who they serve\, and where collaboration might exist. From there\, the focus shifts to open conversation\, giving attendees the chance to learn from one another\, explore partnerships\, and discover ways their businesses can complement and not compete with each other.\n\nEach Coffee Connection features a Chamber member sponsor who invests $100 to host the event. In return\, the Chamber promotes the event and invites the full membership to attend\, creating a strong turnout and meaningful engagement.\n\nIt's a space where conversations matter\, connections grow\, and opportunities happen organically.
X-ALT-DESC;FMTTYPE=text/html:<p style="margin: 0px\; padding: 0px\; color: rgb(64\, 63\, 66)\; font-family: Arial\, Verdana\, Helvetica\, sans-serif\; font-size: 12px\; white-space: pre-wrap\;">Hosted by: Amazon Hub<br />\n<br />\nCoffee Connections is a relaxed\, relationship-focused networking opportunity designed to bring Chamber members together in a meaningful way. This isn&rsquo\;t a traditional sales pitch. It&rsquo\;s about members helping members by sharing ideas\, building connections\, and uncovering opportunities to support one another&rsquo\;s businesses.</p>\n\n<p style="margin: 0px\; padding: 0px\; color: rgb(64\, 63\, 66)\; font-family: Arial\, Verdana\, Helvetica\, sans-serif\; font-size: 12px\; white-space: pre-wrap\;">Each Coffee Connection is hosted by a Chamber member who helps spark the conversation. Hosts have the opportunity to briefly share about their business\, offering insight into what they do\, who they serve\, and where collaboration might exist. From there\, the focus shifts to open conversation\, giving attendees the chance to learn from one another\, explore partnerships\, and discover ways their businesses can complement and not compete with each other.</p>\n\n<p style="margin: 0px\; padding: 0px\; color: rgb(64\, 63\, 66)\; font-family: Arial\, Verdana\, Helvetica\, sans-serif\; font-size: 12px\; white-space: pre-wrap\;">Each Coffee Connection features a Chamber member sponsor who invests $100 to host the event. In return\, the Chamber promotes the event and invites the full membership to attend\, creating a strong turnout and meaningful engagement.</p>\n\n<p style="margin: 0px\; padding: 0px\; color: rgb(64\, 63\, 66)\; font-family: Arial\, Verdana\, Helvetica\, sans-serif\; font-size: 12px\; white-space: pre-wrap\;">It&rsquo\;s a space where conversations matter\, connections grow\, and opportunities happen organically.</p>\n
LOCATION:118 W 6th Street\, Suite C Monticello MN\, 55251
UID:e.1243.9362
SEQUENCE:3
DTSTAMP:20260420T205310Z
URL:https://business.monticellocci.com/events/details/coffee-connections-hosted-by-amazon-hub-9362
END:VEVENT

END:VCALENDAR
