BEGIN:VCALENDAR
VERSION:2.0
PRODID:-//ChamberMaster//Event Calendar 2.0//EN
METHOD:PUBLISH
X-PUBLISHED-TTL:P3D
REFRESH-INTERVAL:P3D
CALSCALE:GREGORIAN
BEGIN:VEVENT
DTSTART:20260505T220000Z
DTEND:20260506T000000Z
X-MICROSOFT-CDO-ALLDAYEVENT:FALSE
SUMMARY:Alliance Imaging 5 Year Anniversary
DESCRIPTION:Join Alliance Imaging on their 5 year anniversary. Proud to celebrate five years of delivering exceptional service to their patients and partners. Please join them on Cinco De Mayo for refreshments\, hors d'oeuvres\, and a fun\, festive celebration an they commemorate this milestone!
X-ALT-DESC;FMTTYPE=text/html:Join Alliance Imaging on their 5 year anniversary. Proud to celebrate five years of delivering exceptional service to their patients and partners. Please join them on Cinco De Mayo for refreshments\, hors d&#39\;oeuvres\, and a fun\, festive celebration an they commemorate this milestone!
LOCATION:3351 Roosevelt Rd\, St Cloud\, MN
UID:e.1243.9367
SEQUENCE:3
DTSTAMP:20260423T182922Z
URL:https://business.monticellocci.com/events/details/alliance-imaging-5-year-anniversary-9367
END:VEVENT

END:VCALENDAR
