BEGIN:VCALENDAR
VERSION:2.0
PRODID:-//ChamberMaster//Event Calendar 2.0//EN
METHOD:PUBLISH
X-PUBLISHED-TTL:P3D
REFRESH-INTERVAL:P3D
CALSCALE:GREGORIAN
BEGIN:VEVENT
DTSTART:20260506T193000Z
DTEND:20260506T223000Z
X-MICROSOFT-CDO-ALLDAYEVENT:FALSE
SUMMARY:AGC MEET the Neighbors Business Happy Hour
DESCRIPTION:Join us Wednesday MAY 6th for a Business Happy Hour at the Nordic Tap Room for a "Meet the Neighbors" Business Happy Hour.\n\nDesigned to connect the incredible businesses in our own backyard. Let's build a stronger community\, together.\n\nRelax and chat with other business owners and industry workers about what makes a business unique\, and build meaningful relationships with potential partners and friends. We believe great things happen when neighbors know each other. We look forward to seeing you and learning more about your business!
X-ALT-DESC;FMTTYPE=text/html:<p style="box-sizing: border-box\; margin: 0px\; padding: 0px 0px 1em\; border: 0px\; outline: 0px\; font-size: 16px\; text-size-adjust: 100%\; vertical-align: baseline\; background: rgb(240\, 240\, 240)\; color: rgb(102\, 102\, 102)\; font-family: &quot\;Open Sans&quot\;\, Arial\, sans-serif\;">Join us Wednesday MAY 6th for a Business Happy Hour at the Nordic Tap Room for a &ldquo\;Meet the Neighbors&rdquo\; Business Happy Hour.</p>\n\n<p style="box-sizing: border-box\; margin: 0px\; padding: 0px 0px 1em\; border: 0px\; outline: 0px\; font-size: 16px\; text-size-adjust: 100%\; vertical-align: baseline\; background: rgb(240\, 240\, 240)\; color: rgb(102\, 102\, 102)\; font-family: &quot\;Open Sans&quot\;\, Arial\, sans-serif\;">Designed to connect the incredible businesses in our own backyard. Let&rsquo\;s build a stronger community\, together.</p>\n\n<p style="box-sizing: border-box\; margin: 0px\; padding: 0px\; border: 0px\; outline: 0px\; font-size: 16px\; text-size-adjust: 100%\; vertical-align: baseline\; background: rgb(240\, 240\, 240)\; color: rgb(102\, 102\, 102)\; font-family: &quot\;Open Sans&quot\;\, Arial\, sans-serif\;">Relax and chat with other business owners and industry workers about what makes a business unique\, and build meaningful relationships with potential partners and friends. We believe great things happen when neighbors know each other. We look forward to seeing you and learning more about your business!</p>\n
LOCATION:Nordic Tap Room 106 Walnut St\, Monticello\, MN 55362
UID:e.1243.9368
SEQUENCE:3
DTSTAMP:20260424T074441Z
URL:https://business.monticellocci.com/events/details/agc-meet-the-neighbors-business-happy-hour-9368
END:VEVENT

END:VCALENDAR
