BEGIN:VCALENDAR
VERSION:2.0
PRODID:-//ChamberMaster//Event Calendar 2.0//EN
METHOD:PUBLISH
X-PUBLISHED-TTL:P3D
REFRESH-INTERVAL:P3D
CALSCALE:GREGORIAN
BEGIN:VEVENT
DTSTART:20250520T163000Z
DTEND:20250520T180000Z
X-MICROSOFT-CDO-ALLDAYEVENT:FALSE
SUMMARY:2025 Chamber Lunch~ May 20th ~ River City Extreme - WCEDP
DESCRIPTION:May Chamber Luncheon   Spotlight on Business Growth Opportunities\n\nJoin us for our May Chamber Luncheon as we welcome the Wright County Economic Development Partnership (WCEDP) for an informative presentation on the many opportunities available to new\, existing\, and startup businesses in our area.\n\nWCEDP will share valuable insights into the programs\, resources\, and support they offer to help businesses thrive in Wright County. Whether you're looking to launch a new venture\, expand your current operations\, or explore available incentives and partnerships\, this presentation is a must-attend for anyone invested in our local business community.\n\nTreasure Chest Drawing-must be present to win\n\n\n\nWhat sets our chamber apart from others?  Our members become FRIENDS!  Meet new members of the business community and old friends face to face while you enjoy a delicious lunch.  We have a different speaker and topic that pertains to business each month.  Bring your staff or friends\, chamber Lunch is open to all anyone. \n\n \n\nBusiness Lunch Sponsor:
X-ALT-DESC;FMTTYPE=text/html:<p data-end="183" data-start="114"><strong data-end="183" data-start="114">May Chamber Luncheon &ndash\; Spotlight on Business Growth Opportunities</strong></p>\n\n<p data-end="424" data-start="185">Join us for our May Chamber Luncheon as we welcome the <strong data-end="298" data-start="240">Wright County Economic Development Partnership (WCEDP)</strong> for an informative presentation on the many opportunities available to <strong data-end="411" data-start="370">new\, existing\, and startup businesses</strong> in our area.</p>\n\n<p data-end="775" data-start="426">WCEDP will share valuable insights into the programs\, resources\, and support they offer to help businesses thrive in Wright County. Whether you&#39\;re looking to launch a new venture\, expand your current operations\, or explore available incentives and partnerships\, this presentation is a must-attend for anyone invested in our local business community.</p>\n\n<p><strong>Treasure Chest Drawing-must be present to win</strong><br />\n<br />\n<span style="color: rgb(0\, 0\, 255)\;"><em>What sets our chamber apart from others?&nbsp\; Our members become FRIENDS!&nbsp\; Meet new members of the business community and old friends face to face while you enjoy a delicious lunch.&nbsp\; We have a different speaker and topic that pertains to business each month.&nbsp\; Bring your staff or friends\, chamber Lunch is open to all anyone.&nbsp\;</em></span></p>\n\n<p>&nbsp\;</p>\n\n<p><span style="font-size:14px\;"><em><b background-color:="" font-size:="" style="color: rgb(51\, 51\, 51)\; font-family: sans-serif\, Arial\, Verdana\, " trebuchet="">Business Lunch Sponsor:&nbsp\;</b></em></span></p>\n
LOCATION:River City Extreme 3875 School Blvd Monticello\, MN 55362
UID:e.1243.9041
SEQUENCE:3
DTSTAMP:20260421T025058Z
URL:https://business.monticellocci.com/events/details/2025-chamber-lunch-may-20th-river-city-extreme-wcedp-9041
END:VEVENT

END:VCALENDAR
