BEGIN:VCALENDAR
VERSION:2.0
PRODID:-//ChamberMaster//Event Calendar 2.0//EN
METHOD:PUBLISH
X-PUBLISHED-TTL:P3D
REFRESH-INTERVAL:P3D
CALSCALE:GREGORIAN
BEGIN:VEVENT
DTSTART:20241112T191500Z
DTEND:20241112T201500Z
X-MICROSOFT-CDO-ALLDAYEVENT:FALSE
SUMMARY:2024 Ribbon Cutting - Regal Creek Wealth Management
DESCRIPTION:You're Invited to Host a Ribbon Cutting at Your Business\n\n \n\n\n\nDo you have an anniversary\, remodeled business or special occasion that you would like us to help you celebrate? Simply select a date and time that works best for you and give us a call to set it up. As a member of the Monticello Chamber\, you are invited to have the Chamber Ambassadors visit your place of business to host a ribbon cutting.
X-ALT-DESC;FMTTYPE=text/html:<p align="center" style="text-align:center"><b><i><span style="font-size:13.5pt\;\nfont-family:&quot\;Arial&quot\;\,sans-serif\;color:#294B93">You&#39\;re Invited to Host a Ribbon Cutting at Your Business</span></i></b><span style="font-family:&quot\;Century Gothic&quot\;\,sans-serif\;\ncolor:#333333"><o:p></o:p></span></p>\n\n<p align="center" style="text-align:center"><b><i><span style="font-size:13.5pt\;\nfont-family:&quot\;Tahoma&quot\;\,sans-serif\;color:#4C4C4C">&#65279\;</span></i></b><br />\n<br />\n<span style="font-size:9.0pt\;font-family:&quot\;Arial&quot\;\,sans-serif\;color:#4C4C4C">Do you have an anniversary\, remodeled business or special occasion that you would like us to help you celebrate? Simply select a date and time that works best for you and give us a call to set it up. As a member of the Monticello Chamber\, you are invited to have the Chamber Ambassadors visit your place of business to host a ribbon cutting. </span><span style="font-family:&quot\;Century Gothic&quot\;\,sans-serif\;\ncolor:#333333"><o:p></o:p></span></p>\n
LOCATION:Prairie Center - Chamber Building - 118 W 6th Street Suite C
UID:e.1243.9021
SEQUENCE:3
DTSTAMP:20260420T041154Z
URL:https://business.monticellocci.com/events/details/2024-ribbon-cutting-regal-creek-wealth-management-9021
END:VEVENT

END:VCALENDAR
