BEGIN:VCALENDAR
VERSION:2.0
PRODID:-//ChamberMaster//Event Calendar 2.0//EN
METHOD:PUBLISH
X-PUBLISHED-TTL:P3D
REFRESH-INTERVAL:P3D
CALSCALE:GREGORIAN
BEGIN:VEVENT
DTSTART:20241023T123000Z
DTEND:20241023T140000Z
X-MICROSOFT-CDO-ALLDAYEVENT:FALSE
SUMMARY:2024 Good Morning Monticello - October 23rd- Riverwood Bank
DESCRIPTION:This monthly event held on the 4th Wednesday\, gives members an opportunity to network and socialize in a fun\, relaxed atmosphere before the regular working day. This event is meant to be a less formal networking opportunity. Attendees are encouraged to make an announcement about anything they choose-a celebration\, business promotion\, introduce new employee\, etc.\nWhat sets our chamber apart from others?  Our members become FRIENDS!  Meet new members of the business community and old friends face to face while you enjoy a delicious breakfast.
X-ALT-DESC;FMTTYPE=text/html:<div style="color: gray"><br />\n<br />\n<span style="color:#000000\;"><span style="font-family: Tahoma\, sans-serif\; font-size: 14.6667px\; background-color: rgb(255\, 255\, 255)\;">This monthly event held on the 4th Wednesday\, gives members an opportunity to network and socialize in a fun\, relaxed atmosphere before the regular working day. This event is meant to be a&nbsp\;less formal networking opportunity. Attendees are encouraged to make an announcement about anything they choose-a celebration\, business promotion\, introduce new employee\, etc.</span></span>\n<p style="color: gray\;"><span style="color:#0000ff\;"><em>What sets our chamber apart from others?&nbsp\; Our members become FRIENDS!&nbsp\; Meet new members of the business community and old friends face to face while you enjoy a delicious breakfast.&nbsp\; </em></span></p>\n\n<p style="color: gray\;">&nbsp\;</p>\n</div>\n
LOCATION:Riverwood Bank Monticello
UID:e.1243.8705
SEQUENCE:3
DTSTAMP:20260422T083044Z
URL:https://business.monticellocci.com/events/details/2024-good-morning-monticello-october-23rd-riverwood-bank-8705
END:VEVENT

END:VCALENDAR
